BEGIN:VCALENDAR
VERSION:2.0
PRODID:-//Sofa Lounge//EN
CALSCALE:GREGORIAN
METHOD:PUBLISH
BEGIN:VEVENT
UID:career-identity-2026@sofalounge.com
DTSTART:20260425T043000Z
DTEND:20260425T063000Z
SUMMARY:Building Your Career Identity as a Student in China
DESCRIPTION:Navigating your career as an international student in China comes with a unique set of challenges — and a unique set of opportunities. This session brings together students\, recent graduates\, and working professionals for an honest conversation about building a career identity that works here: how to position yourself\, who to connect with\, and how to turn your international experience into a real advantage.\n\nExpect practical takeaways\, open discussion\, and the chance to meet people who get it.
LOCATION:Mingshi Residence – Integrated Service Complex (名士之家·综合服务体)\, Shaoxing
URL:https://sofalounge.com/events/career-identity-2026
STATUS:CONFIRMED
END:VEVENT
END:VCALENDAR